BEGIN:VCALENDAR
VERSION:2.0
PRODID:-//7 Ranges Entertainment - ECPv6.15.20//NONSGML v1.0//EN
CALSCALE:GREGORIAN
METHOD:PUBLISH
X-WR-CALNAME:7 Ranges Entertainment
X-ORIGINAL-URL:https://7rangesentertainment.com
X-WR-CALDESC:Events for 7 Ranges Entertainment
REFRESH-INTERVAL;VALUE=DURATION:PT1H
X-Robots-Tag:noindex
X-PUBLISHED-TTL:PT1H
BEGIN:VTIMEZONE
TZID:America/New_York
BEGIN:DAYLIGHT
TZOFFSETFROM:-0500
TZOFFSETTO:-0400
TZNAME:EDT
DTSTART:20250309T070000
END:DAYLIGHT
BEGIN:STANDARD
TZOFFSETFROM:-0400
TZOFFSETTO:-0500
TZNAME:EST
DTSTART:20251102T060000
END:STANDARD
BEGIN:DAYLIGHT
TZOFFSETFROM:-0500
TZOFFSETTO:-0400
TZNAME:EDT
DTSTART:20260308T070000
END:DAYLIGHT
BEGIN:STANDARD
TZOFFSETFROM:-0400
TZOFFSETTO:-0500
TZNAME:EST
DTSTART:20261101T060000
END:STANDARD
BEGIN:DAYLIGHT
TZOFFSETFROM:-0500
TZOFFSETTO:-0400
TZNAME:EDT
DTSTART:20270314T070000
END:DAYLIGHT
BEGIN:STANDARD
TZOFFSETFROM:-0400
TZOFFSETTO:-0500
TZNAME:EST
DTSTART:20271107T060000
END:STANDARD
END:VTIMEZONE
BEGIN:VEVENT
DTSTART;TZID=America/New_York:20260424T190000
DTEND;TZID=America/New_York:20260424T230000
DTSTAMP:20260424T104544
CREATED:20260423T143824Z
LAST-MODIFIED:20260423T143825Z
UID:10000961-1777057200-1777071600@7rangesentertainment.com
SUMMARY:NFL Draft Watch Party
DESCRIPTION:Join your friends inside The G.O.A.T. House at 7 Ranges Entertainment to watch all the exciting 2026 NFL Draft action from Pittsburgh\, PA. Round 1 starts at 8 PM on Thursday\, April 23\, 2026. The action continues through Saturday April 25\, 2026. Rounds 2-3 will occur on Friday\, April 24\, 2026\, at 7 PM. Rounds 4-7 will conclude this year’s draft on Saturday\, April 25\, 2026\, at 12 PM (noon).
URL:https://7rangesentertainment.com/event/nfl-draft-watch-party/2026-04-24/
LOCATION:7 Ranges Entertainment\, 100 Mall Drive\, Ste 5\, Steubenville\, Ohio\, 43952\, United States
CATEGORIES:Sports
ORGANIZER;CN="7 Ranges":MAILTO:marketing@7rangesent.com
END:VEVENT
BEGIN:VEVENT
DTSTART;TZID=America/New_York:20260425T120000
DTEND;TZID=America/New_York:20260425T150000
DTSTAMP:20260424T104544
CREATED:20260423T143824Z
LAST-MODIFIED:20260423T143825Z
UID:10000962-1777118400-1777129200@7rangesentertainment.com
SUMMARY:NFL Draft Watch Party
DESCRIPTION:Join your friends inside The G.O.A.T. House at 7 Ranges Entertainment to watch all the exciting 2026 NFL Draft action from Pittsburgh\, PA. Round 1 starts at 8 PM on Thursday\, April 23\, 2026. The action continues through Saturday April 25\, 2026. Rounds 2-3 will occur on Friday\, April 24\, 2026\, at 7 PM. Rounds 4-7 will conclude this year’s draft on Saturday\, April 25\, 2026\, at 12 PM (noon).
URL:https://7rangesentertainment.com/event/nfl-draft-watch-party/2026-04-25/
LOCATION:7 Ranges Entertainment\, 100 Mall Drive\, Ste 5\, Steubenville\, Ohio\, 43952\, United States
CATEGORIES:Sports
ORGANIZER;CN="7 Ranges":MAILTO:marketing@7rangesent.com
END:VEVENT
END:VCALENDAR