BEGIN:VCALENDAR
VERSION:2.0
PRODID:-//7 Ranges Entertainment - ECPv6.15.20//NONSGML v1.0//EN
CALSCALE:GREGORIAN
METHOD:PUBLISH
X-WR-CALNAME:7 Ranges Entertainment
X-ORIGINAL-URL:https://7rangesentertainment.com
X-WR-CALDESC:Events for 7 Ranges Entertainment
REFRESH-INTERVAL;VALUE=DURATION:PT1H
X-Robots-Tag:noindex
X-PUBLISHED-TTL:PT1H
BEGIN:VTIMEZONE
TZID:America/New_York
BEGIN:DAYLIGHT
TZOFFSETFROM:-0500
TZOFFSETTO:-0400
TZNAME:EDT
DTSTART:20250309T070000
END:DAYLIGHT
BEGIN:STANDARD
TZOFFSETFROM:-0400
TZOFFSETTO:-0500
TZNAME:EST
DTSTART:20251102T060000
END:STANDARD
BEGIN:DAYLIGHT
TZOFFSETFROM:-0500
TZOFFSETTO:-0400
TZNAME:EDT
DTSTART:20260308T070000
END:DAYLIGHT
BEGIN:STANDARD
TZOFFSETFROM:-0400
TZOFFSETTO:-0500
TZNAME:EST
DTSTART:20261101T060000
END:STANDARD
BEGIN:DAYLIGHT
TZOFFSETFROM:-0500
TZOFFSETTO:-0400
TZNAME:EDT
DTSTART:20270314T070000
END:DAYLIGHT
BEGIN:STANDARD
TZOFFSETFROM:-0400
TZOFFSETTO:-0500
TZNAME:EST
DTSTART:20271107T060000
END:STANDARD
END:VTIMEZONE
BEGIN:VEVENT
DTSTART;TZID=America/New_York:20260424T190000
DTEND;TZID=America/New_York:20260424T230000
DTSTAMP:20260424T122930
CREATED:20260423T133704Z
LAST-MODIFIED:20260423T133750Z
UID:10000915-1777057200-1777071600@7rangesentertainment.com
SUMMARY:NHL Playoff Hockey
DESCRIPTION:Great games\, great food\, and great FUN. Join us for NHL Playoff action!
URL:https://7rangesentertainment.com/event/nhl-playoff-hockey/2026-04-24/
LOCATION:7 Ranges Entertainment\, 100 Mall Drive\, Ste 5\, Steubenville\, Ohio\, 43952\, United States
CATEGORIES:Sports
ORGANIZER;CN="7 Ranges":MAILTO:marketing@7rangesent.com
END:VEVENT
BEGIN:VEVENT
DTSTART;TZID=America/New_York:20260426T140000
DTEND;TZID=America/New_York:20260426T230000
DTSTAMP:20260424T122930
CREATED:20260423T133704Z
LAST-MODIFIED:20260423T133750Z
UID:10000914-1777212000-1777244400@7rangesentertainment.com
SUMMARY:NHL Playoff Hockey
DESCRIPTION:Great games\, great food\, and great FUN. Join us for NHL Playoff action!
URL:https://7rangesentertainment.com/event/nhl-playoff-hockey/2026-04-26/
LOCATION:7 Ranges Entertainment\, 100 Mall Drive\, Ste 5\, Steubenville\, Ohio\, 43952\, United States
CATEGORIES:Sports
ORGANIZER;CN="7 Ranges":MAILTO:marketing@7rangesent.com
END:VEVENT
END:VCALENDAR